BEGIN:VCALENDAR
VERSION:2.0
PRODID:-//ENSCentro - ECPv6.15.20//NONSGML v1.0//EN
CALSCALE:GREGORIAN
METHOD:PUBLISH
X-ORIGINAL-URL:https://enscentro.equiposens.org
X-WR-CALDESC:Eventos para ENSCentro
REFRESH-INTERVAL;VALUE=DURATION:PT1H
X-Robots-Tag:noindex
X-PUBLISHED-TTL:PT1H
BEGIN:VTIMEZONE
TZID:UTC
BEGIN:STANDARD
TZOFFSETFROM:+0000
TZOFFSETTO:+0000
TZNAME:UTC
DTSTART:20230101T000000
END:STANDARD
END:VTIMEZONE
BEGIN:VEVENT
DTSTART;TZID=UTC:20240210T100000
DTEND;TZID=UTC:20240210T140000
DTSTAMP:20260421T022401
CREATED:20231218T103058Z
LAST-MODIFIED:20231218T103058Z
UID:1749-1707559200-1707573600@enscentro.equiposens.org
SUMMARY:SECTOR CIUDAD REAL - Reunión de Responsables de equipo
DESCRIPTION:
URL:https://enscentro.equiposens.org/https-enscentro-equiposens-org-eventos-ra/sector-ciudad-real-reunion-de-responsables-de-equipo/
CATEGORIES:SECTOR CIUDAD REAL
END:VEVENT
END:VCALENDAR