BEGIN:VCALENDAR
VERSION:2.0
PRODID:-//ENSCentro - ECPv6.15.20//NONSGML v1.0//EN
CALSCALE:GREGORIAN
METHOD:PUBLISH
X-WR-CALNAME:ENSCentro
X-ORIGINAL-URL:https://enscentro.equiposens.org
X-WR-CALDESC:Eventos para ENSCentro
REFRESH-INTERVAL;VALUE=DURATION:PT1H
X-Robots-Tag:noindex
X-PUBLISHED-TTL:PT1H
BEGIN:VTIMEZONE
TZID:UTC
BEGIN:STANDARD
TZOFFSETFROM:+0000
TZOFFSETTO:+0000
TZNAME:UTC
DTSTART:20220101T000000
END:STANDARD
END:VTIMEZONE
BEGIN:VEVENT
DTSTART;TZID=UTC:20230504T080000
DTEND;TZID=UTC:20230504T170000
DTSTAMP:20260423T195833
CREATED:20231218T103142Z
LAST-MODIFIED:20240202T205401Z
UID:1751-1683187200-1683219600@enscentro.equiposens.org
SUMMARY:SECTOR CIUDAD REAL - Jornada Mariana
DESCRIPTION:
URL:https://enscentro.equiposens.org/https-enscentro-equiposens-org-eventos-ra/sector-ciudad-real-jornada-mariana/
CATEGORIES:SECTOR CIUDAD REAL
END:VEVENT
END:VCALENDAR