BEGIN:VCALENDAR
VERSION:2.0
PRODID:-//ENSCentro - ECPv6.15.20//NONSGML v1.0//EN
CALSCALE:GREGORIAN
METHOD:PUBLISH
X-ORIGINAL-URL:https://enscentro.equiposens.org
X-WR-CALDESC:Eventos para ENSCentro
REFRESH-INTERVAL;VALUE=DURATION:PT1H
X-Robots-Tag:noindex
X-PUBLISHED-TTL:PT1H
BEGIN:VTIMEZONE
TZID:UTC
BEGIN:STANDARD
TZOFFSETFROM:+0000
TZOFFSETTO:+0000
TZNAME:UTC
DTSTART:20220101T000000
END:STANDARD
END:VTIMEZONE
BEGIN:VEVENT
DTSTART;TZID=UTC:20231202T100000
DTEND;TZID=UTC:20231202T170000
DTSTAMP:20260421T200906
CREATED:20230908T170600Z
LAST-MODIFIED:20240202T190100Z
UID:1642-1701511200-1701536400@enscentro.equiposens.org
SUMMARY:SECTOR CIUDAD REAL - EUCARISTIA DE ADVIENTO / RETIRO
DESCRIPTION:EUCARISTIA DE ADVIENTO / RETIRO
URL:https://enscentro.equiposens.org/https-enscentro-equiposens-org-eventos-ra/sector-ciudad-real-eucaristia-de-adviento-retiro/
CATEGORIES:SECTOR CIUDAD REAL
ATTACH;FMTTYPE=image/jpeg:https://enscentro.equiposens.org/wp-content/uploads/2023/09/23-12-02-ADVIENTO-CIUDAD-REAL-1.jpg
END:VEVENT
END:VCALENDAR