BEGIN:VCALENDAR
VERSION:2.0
PRODID:-//ENSCentro - ECPv6.15.20//NONSGML v1.0//EN
CALSCALE:GREGORIAN
METHOD:PUBLISH
X-WR-CALNAME:ENSCentro
X-ORIGINAL-URL:https://enscentro.equiposens.org
X-WR-CALDESC:Eventos para ENSCentro
REFRESH-INTERVAL;VALUE=DURATION:PT1H
X-Robots-Tag:noindex
X-PUBLISHED-TTL:PT1H
BEGIN:VTIMEZONE
TZID:UTC
BEGIN:STANDARD
TZOFFSETFROM:+0000
TZOFFSETTO:+0000
TZNAME:UTC
DTSTART:20220101T000000
END:STANDARD
END:VTIMEZONE
BEGIN:VEVENT
DTSTART;TZID=UTC:20231007T100000
DTEND;TZID=UTC:20231007T170000
DTSTAMP:20260421T224821
CREATED:20230908T170458Z
LAST-MODIFIED:20240202T182623Z
UID:1640-1696672800-1696698000@enscentro.equiposens.org
SUMMARY:SECTOR CIUDAD REAL - APERTURA DE CURSO
DESCRIPTION:APERTURA DE CURSO
URL:https://enscentro.equiposens.org/https-enscentro-equiposens-org-eventos-ra/sector-ciudad-real-apertura-de-curso/
CATEGORIES:SECTOR CIUDAD REAL
ATTACH;FMTTYPE=image/jpeg:https://enscentro.equiposens.org/wp-content/uploads/2023/09/23-10-07-APERTURA-CURSO-CIUDAD-REAL.jpg
END:VEVENT
END:VCALENDAR